OziExplorer Map Data File Version 2.2
O-37-104_Гаврилов Ям_нд
D:\GPS\MAPS_OZF\Yars\Yar_west_1km\O-37-104.ozf2
1 ,Map Code,
Pulkovo 1942 (2),, 0.0000, 0.0000,WGS 84
Reserved 1
Reserved 2
Magnetic Variation,,,E
Map Projection,Transverse Mercator,PolyCal,No,AutoCalOnly,No,BSBUseWPX,No
Point01,xy, 988, 736,in, deg, , ,N, , ,E, grid, , 538000, 6352000,N
Point02,xy, 2642, 1000,in, deg, , ,N, , ,E, grid, , 552000, 6350000,N
Point03,xy, 708, 3567,in, deg, , ,N, , ,E, grid, , 536000, 6328000,N
Point04,xy, 2839, 3602,in, deg, , ,N, , ,E, grid, , 554000, 6328000,N
Point05,xy, , ,in, deg, , ,N, , ,E, grid, , , ,N
Point06,xy, , ,in, deg, , ,N, , ,E, grid, , , ,N
Point07,xy, , ,in, deg, , ,N, , ,E, grid, , , ,N
Point08,xy, , ,in, deg, , ,N, , ,E, grid, , , ,N
Point09,xy, , ,in, deg, , ,N, , ,E, grid, , , ,N
Point10,xy, , ,in, deg, , ,N, , ,W, grid, , , ,N
Point11,xy, , ,in, deg, , ,N, , ,W, grid, , , ,N
Point12,xy, , ,in, deg, , ,N, , ,W, grid, , , ,N
Point13,xy, , ,in, deg, , ,N, , ,W, grid, , , ,N
Point14,xy, , ,in, deg, , ,N, , ,W, grid, , , ,N
Point15,xy, , ,in, deg, , ,N, , ,W, grid, , , ,N
Point16,xy, , ,in, deg, , ,N, , ,W, grid, , , ,N
Point17,xy, , ,in, deg, , ,N, , ,W, grid, , , ,N
Point18,xy, , ,in, deg, , ,N, , ,W, grid, , , ,N
Point19,xy, , ,in, deg, , ,N, , ,W, grid, , , ,N
Point20,xy, , ,in, deg, , ,N, , ,W, grid, , , ,N
Point21,xy, , ,in, deg, , ,N, , ,W, grid, , , ,N
Point22,xy, , ,in, deg, , ,N, , ,W, grid, , , ,N
Point23,xy, , ,in, deg, , ,N, , ,W, grid, , , ,N
Point24,xy, , ,in, deg, , ,N, , ,W, grid, , , ,N
Point25,xy, , ,in, deg, , ,N, , ,W, grid, , , ,N
Point26,xy, , ,in, deg, , ,N, , ,W, grid, , , ,N
Point27,xy, , ,in, deg, , ,N, , ,W, grid, , , ,N
Point28,xy, , ,in, deg, , ,N, , ,W, grid, , , ,N
Point29,xy, , ,in, deg, , ,N, , ,W, grid, , , ,N
Point30,xy, , ,in, deg, , ,N, , ,W, grid, , , ,N
Projection Setup, 0.000000000, 39.000000000, 1.000000000, 500000.00, 0.00,,,,,
Map Feature = MF ; Map Comment = MC These follow if they exist MC, 1, 57.333539, 39.497766, 0, 0, 13158342, 400,16,8,1 O-37-104_Гаврилов Ям (бр)_Россия_Ивановская,Ярославская_нд_нд_3_2,00_06.02.2004 0:17:19_0_300
Track File = TF These follow if they exist
Moving Map Parameters = MM? These follow if they exist
MM0,Yes
MMPNUM,4
MMPXY,1,48,97
MMPXY,2,3626,117
MMPXY,3,3630,4510
MMPXY,4,29,4489
MMPLL,1, 39.497766, 57.333539
MMPLL,2, 39.999478, 57.333535
MMPLL,3, 40.000388, 56.999609
MMPLL,4, 39.499982, 56.999674
MM1B,8.440911
MOP,Map Open Position,0,0
IWH,Map Image Width/Height,3652,4540
