OziExplorer Map Data File Version 2.2
o37-088
Y:\ozi_map\work_map\1\o37-088.gif
1 ,Map Code,
Pulkovo 1942 (1),, 0.0000, 0.0000,WGS 84
Reserved 1
Reserved 2
Magnetic Variation,,,E
Map Projection,Transverse Mercator,PolyCal,Yes,AutoCalOnly,No,BSBUseWPX,No
Point01,xy, 87, 160,in, deg, 57, 40.0000,N, 37, 30.0000,E, grid, , , ,N
Point02,xy, 966, 167,in, deg, 57, 40.0000,N, 37, 45.0000,E, grid, , , ,N
Point03,xy, 1848, 170,in, deg, 57, 40.0000,N, 38, 0.0000,E, grid, , , ,N
Point04,xy, 76, 1257,in, deg, 57, 30.0000,N, 37, 30.0000,E, grid, , , ,N
Point05,xy, 961, 1265,in, deg, 57, 30.0000,N, 37, 45.0000,E, grid, , , ,N
Point06,xy, 1847, 1268,in, deg, 57, 30.0000,N, 38, 0.0000,E, grid, , , ,N
Point07,xy, 64, 2352,in, deg, 57, 20.0000,N, 37, 30.0000,E, grid, , , ,N
Point08,xy, 952, 2360,in, deg, 57, 20.0000,N, 37, 45.0000,E, grid, , , ,N
Point09,xy, 1841, 2365,in, deg, 57, 20.0000,N, 38, 0.0000,E, grid, , , ,N
Point10,xy, , ,in, deg, , ,, , ,, grid, , , ,N
Point11,xy, , ,in, deg, , ,, , ,, grid, , , ,N
Point12,xy, , ,in, deg, , ,, , ,, grid, , , ,N
Point13,xy, , ,in, deg, , ,, , ,, grid, , , ,N
Point14,xy, , ,in, deg, , ,, , ,, grid, , , ,N
Point15,xy, , ,in, deg, , ,, , ,, grid, , , ,N
Point16,xy, , ,in, deg, , ,, , ,, grid, , , ,N
Point17,xy, , ,in, deg, , ,, , ,, grid, , , ,N
Point18,xy, , ,in, deg, , ,, , ,, grid, , , ,N
Point19,xy, , ,in, deg, , ,, , ,, grid, , , ,N
Point20,xy, , ,in, deg, , ,, , ,, grid, , , ,N
Point21,xy, , ,in, deg, , ,, , ,, grid, , , ,N
Point22,xy, , ,in, deg, , ,, , ,, grid, , , ,N
Point23,xy, , ,in, deg, , ,, , ,, grid, , , ,N
Point24,xy, , ,in, deg, , ,, , ,, grid, , , ,N
Point25,xy, , ,in, deg, , ,, , ,, grid, , , ,N
Point26,xy, , ,in, deg, , ,, , ,, grid, , , ,N
Point27,xy, , ,in, deg, , ,, , ,, grid, , , ,N
Point28,xy, , ,in, deg, , ,, , ,, grid, , , ,N
Point29,xy, , ,in, deg, , ,, , ,, grid, , , ,N
Point30,xy, , ,in, deg, , ,, , ,, grid, , , ,N
Projection Setup, 0.000000000, 39.000000000, 1.000000000, 7500000.00, 0.00,,,,,
Map Feature = MF ; Map Comment = MC These follow if they exist
Track File = TF These follow if they exist
Moving Map Parameters = MM? These follow if they exist
MM0,Yes
MMPNUM,4
MMPXY,1,84,157
MMPXY,2,1852,167
MMPXY,3,1843,2369
MMPXY,4,61,2354
MMPLL,1, 37.499300, 57.667131
MMPLL,2, 38.001103, 57.667110
MMPLL,3, 38.000444, 57.332687
MMPLL,4, 37.499223, 57.333011
MM1B,16.928352
Other Grid Setup
GRGRID,Yes,2 Km,No,16711680,255,2 Km,0,16777215,8,0,Yes,Yes,No,x
MOP,Map Open Position,0,0
IWH,Map Image Width/Height,1956,2560
