OziExplorer Map Data File Version 2.2
o37-090
Y:\ozi_map\work_map\1\o37-090.gif
1 ,Map Code,
Pulkovo 1942 (1),, 0.0000, 0.0000,WGS 84
Reserved 1
Reserved 2
Magnetic Variation,,,E
Map Projection,Transverse Mercator,PolyCal,Yes,AutoCalOnly,No,BSBUseWPX,No
Point01,xy, 78, 133,in, deg, 57, 40.0000,N, 38, 30.0000,E, grid, , , ,N
Point02,xy, 959, 141,in, deg, 57, 40.0000,N, 38, 45.0000,E, grid, , , ,N
Point03,xy, 1839, 145,in, deg, 57, 40.0000,N, 39, 0.0000,E, grid, , , ,N
Point04,xy, 66, 1232,in, deg, 57, 30.0000,N, 38, 30.0000,E, grid, , , ,N
Point05,xy, 950, 1241,in, deg, 57, 30.0000,N, 38, 45.0000,E, grid, , , ,N
Point06,xy, 1835, 1246,in, deg, 57, 30.0000,N, 39, 0.0000,E, grid, , , ,N
Point07,xy, 53, 2332,in, deg, 57, 20.0000,N, 38, 30.0000,E, grid, , , ,N
Point08,xy, 943, 2340,in, deg, 57, 20.0000,N, 38, 45.0000,E, grid, , , ,N
Point09,xy, 1832, 2346,in, deg, 57, 20.0000,N, 39, 0.0000,E, grid, , , ,N
Point10,xy, , ,in, deg, , ,, , ,, grid, , , ,N
Point11,xy, , ,in, deg, , ,, , ,, grid, , , ,N
Point12,xy, , ,in, deg, , ,, , ,, grid, , , ,N
Point13,xy, , ,in, deg, , ,, , ,, grid, , , ,N
Point14,xy, , ,in, deg, , ,, , ,, grid, , , ,N
Point15,xy, , ,in, deg, , ,, , ,, grid, , , ,N
Point16,xy, , ,in, deg, , ,, , ,, grid, , , ,N
Point17,xy, , ,in, deg, , ,, , ,, grid, , , ,N
Point18,xy, , ,in, deg, , ,, , ,, grid, , , ,N
Point19,xy, , ,in, deg, , ,, , ,, grid, , , ,N
Point20,xy, , ,in, deg, , ,, , ,, grid, , , ,N
Point21,xy, , ,in, deg, , ,, , ,, grid, , , ,N
Point22,xy, , ,in, deg, , ,, , ,, grid, , , ,N
Point23,xy, , ,in, deg, , ,, , ,, grid, , , ,N
Point24,xy, , ,in, deg, , ,, , ,, grid, , , ,N
Point25,xy, , ,in, deg, , ,, , ,, grid, , , ,N
Point26,xy, , ,in, deg, , ,, , ,, grid, , , ,N
Point27,xy, , ,in, deg, , ,, , ,, grid, , , ,N
Point28,xy, , ,in, deg, , ,, , ,, grid, , , ,N
Point29,xy, , ,in, deg, , ,, , ,, grid, , , ,N
Point30,xy, , ,in, deg, , ,, , ,, grid, , , ,N
Projection Setup, 0.000000000, 39.000000000, 1.000000000, 7500000.00, 0.00,,,,,
Map Feature = MF ; Map Comment = MC These follow if they exist
Track File = TF These follow if they exist
Moving Map Parameters = MM? These follow if they exist
MM0,Yes
MMPNUM,4
MMPXY,1,75,131
MMPXY,2,1842,141
MMPXY,3,1835,2348
MMPXY,4,50,2334
MMPLL,1, 38.499062, 57.666956
MMPLL,2, 39.000863, 57.667316
MMPLL,3, 39.000861, 57.333024
MMPLL,4, 38.499086, 57.332965
MM1B,16.933239
Other Grid Setup
GRGRID,Yes,2 Km,No,16711680,255,2 Km,0,16777215,8,0,Yes,Yes,No,x
MOP,Map Open Position,0,0
IWH,Map Image Width/Height,1944,2532
