OziExplorer Map Data File Version 2.2
o37-099
Y:\ozi_map\work_map\1\o37-099.gif
1 ,Map Code,
Pulkovo 1942 (1),, 0.0000, 0.0000,WGS 84
Reserved 1
Reserved 2
Magnetic Variation,,,E
Map Projection,Transverse Mercator,PolyCal,Yes,AutoCalOnly,No,BSBUseWPX,No
Point01,xy, 111, 162,in, deg, 57, 20.0000,N, 37, 0.0000,E, grid, , , ,N
Point02,xy, 997, 162,in, deg, 57, 20.0000,N, 37, 15.0000,E, grid, , , ,N
Point03,xy, 1888, 162,in, deg, 57, 20.0000,N, 37, 30.0000,E, grid, , , ,N
Point04,xy, 105, 1260,in, deg, 57, 10.0000,N, 37, 0.0000,E, grid, , , ,N
Point05,xy, 997, 1265,in, deg, 57, 10.0000,N, 37, 15.0000,E, grid, , , ,N
Point06,xy, 1891, 1260,in, deg, 57, 10.0000,N, 37, 30.0000,E, grid, , , ,N
Point07,xy, 99, 2355,in, deg, 57, 0.0000,N, 37, 0.0000,E, grid, , , ,N
Point08,xy, 996, 2360,in, deg, 57, 0.0000,N, 37, 15.0000,E, grid, , , ,N
Point09,xy, 1894, 2356,in, deg, 57, 0.0000,N, 37, 30.0000,E, grid, , , ,N
Point10,xy, , ,in, deg, , ,, , ,, grid, , , ,N
Point11,xy, , ,in, deg, , ,, , ,, grid, , , ,N
Point12,xy, , ,in, deg, , ,, , ,, grid, , , ,N
Point13,xy, , ,in, deg, , ,, , ,, grid, , , ,N
Point14,xy, , ,in, deg, , ,, , ,, grid, , , ,N
Point15,xy, , ,in, deg, , ,, , ,, grid, , , ,N
Point16,xy, , ,in, deg, , ,, , ,, grid, , , ,N
Point17,xy, , ,in, deg, , ,, , ,, grid, , , ,N
Point18,xy, , ,in, deg, , ,, , ,, grid, , , ,N
Point19,xy, , ,in, deg, , ,, , ,, grid, , , ,N
Point20,xy, , ,in, deg, , ,, , ,, grid, , , ,N
Point21,xy, , ,in, deg, , ,, , ,, grid, , , ,N
Point22,xy, , ,in, deg, , ,, , ,, grid, , , ,N
Point23,xy, , ,in, deg, , ,, , ,, grid, , , ,N
Point24,xy, , ,in, deg, , ,, , ,, grid, , , ,N
Point25,xy, , ,in, deg, , ,, , ,, grid, , , ,N
Point26,xy, , ,in, deg, , ,, , ,, grid, , , ,N
Point27,xy, , ,in, deg, , ,, , ,, grid, , , ,N
Point28,xy, , ,in, deg, , ,, , ,, grid, , , ,N
Point29,xy, , ,in, deg, , ,, , ,, grid, , , ,N
Point30,xy, , ,in, deg, , ,, , ,, grid, , , ,N
Projection Setup, 0.000000000, 39.000000000, 1.000000000, 7500000.00, 0.00,,,,,
Map Feature = MF ; Map Comment = MC These follow if they exist
Track File = TF These follow if they exist
Moving Map Parameters = MM? These follow if they exist
MM0,Yes
MMPNUM,4
MMPXY,1,107,158
MMPXY,2,1891,159
MMPXY,3,1897,2359
MMPXY,4,96,2359
MMPLL,1, 36.998978, 57.333788
MMPLL,2, 37.500954, 57.333611
MMPLL,3, 37.500753, 56.999594
MMPLL,4, 36.999089, 56.999466
MM1B,16.921758
Other Grid Setup
GRGRID,Yes,2 Km,No,16711680,255,2 Km,0,16777215,8,0,Yes,Yes,No,x
MOP,Map Open Position,0,0
IWH,Map Image Width/Height,1986,2586
