OziExplorer Map Data File Version 2.2
o37-108
Y:\ozi_map\work_map\1\o37-108.jpg
1 ,Map Code,
Pulkovo 1942 (1),, 0.0000, 0.0000,WGS 84
Reserved 1
Reserved 2
Magnetic Variation,,,E
Map Projection,Transverse Mercator,PolyCal,Yes,AutoCalOnly,No,BSBUseWPX,No
Point01,xy, 4, 44,in, deg, 57, 20.0000,N, 41, 30.0000,E, grid, , , ,N
Point02,xy, 896, 41,in, deg, 57, 20.0000,N, 41, 45.0000,E, grid, , , ,N
Point03,xy, 1784, 33,in, deg, 57, 20.0000,N, 42, 0.0000,E, grid, , , ,N
Point04,xy, 10, 1142,in, deg, 57, 10.0000,N, 41, 30.0000,E, grid, , , ,N
Point05,xy, 905, 1137,in, deg, 57, 10.0000,N, 41, 45.0000,E, grid, , , ,N
Point06,xy, 1799, 1126,in, deg, 57, 10.0000,N, 42, 0.0000,E, grid, , , ,N
Point07,xy, 18, 2242,in, deg, 57, 0.0000,N, 41, 30.0000,E, grid, , , ,N
Point08,xy, 917, 2233,in, deg, 57, 0.0000,N, 41, 45.0000,E, grid, , , ,N
Point09,xy, 1816, 2223,in, deg, 57, 0.0000,N, 42, 0.0000,E, grid, , , ,N
Point10,xy, , ,in, deg, , ,, , ,, grid, , , ,N
Point11,xy, , ,in, deg, , ,, , ,, grid, , , ,N
Point12,xy, , ,in, deg, , ,, , ,, grid, , , ,N
Point13,xy, , ,in, deg, , ,, , ,, grid, , , ,N
Point14,xy, , ,in, deg, , ,, , ,, grid, , , ,N
Point15,xy, , ,in, deg, , ,, , ,, grid, , , ,N
Point16,xy, , ,in, deg, , ,, , ,, grid, , , ,N
Point17,xy, , ,in, deg, , ,, , ,, grid, , , ,N
Point18,xy, , ,in, deg, , ,, , ,, grid, , , ,N
Point19,xy, , ,in, deg, , ,, , ,, grid, , , ,N
Point20,xy, , ,in, deg, , ,, , ,, grid, , , ,N
Point21,xy, , ,in, deg, , ,, , ,, grid, , , ,N
Point22,xy, , ,in, deg, , ,, , ,, grid, , , ,N
Point23,xy, , ,in, deg, , ,, , ,, grid, , , ,N
Point24,xy, , ,in, deg, , ,, , ,, grid, , , ,N
Point25,xy, , ,in, deg, , ,, , ,, grid, , , ,N
Point26,xy, , ,in, deg, , ,, , ,, grid, , , ,N
Point27,xy, , ,in, deg, , ,, , ,, grid, , , ,N
Point28,xy, , ,in, deg, , ,, , ,, grid, , , ,N
Point29,xy, , ,in, deg, , ,, , ,, grid, , , ,N
Point30,xy, , ,in, deg, , ,, , ,, grid, , , ,N
Projection Setup, 0.000000000, 39.000000000, 1.000000000, 7500000.00, 0.00,,,,,
Map Feature = MF ; Map Comment = MC These follow if they exist
Track File = TF These follow if they exist
Moving Map Parameters = MM? These follow if they exist
MM0,Yes
MMPNUM,4
MMPXY,1,3,42
MMPXY,2,1787,31
MMPXY,3,1819,2226
MMPXY,4,15,2244
MMPLL,1, 41.499612, 57.333690
MMPLL,2, 42.000740, 57.333634
MMPLL,3, 42.000897, 56.999435
MMPLL,4, 41.499240, 56.999649
MM1B,16.903685
Other Grid Setup
GRGRID,Yes,2 Km,No,16711680,255,2 Km,0,16777215,8,0,Yes,Yes,No,x
MOP,Map Open Position,0,0
IWH,Map Image Width/Height,1920,2432
