OziExplorer Map Data File Version 2.2
o37-121
Y:\ozi_map\work_map\1\o37-121.gif
1 ,Map Code,
Pulkovo 1942 (1),, 0.0000, 0.0000,WGS 84
Reserved 1
Reserved 2
Magnetic Variation,,,E
Map Projection,Transverse Mercator,PolyCal,Yes,AutoCalOnly,No,BSBUseWPX,No
Point01,xy, 125, 139,in, deg, 56, 40.0000,N, 36, 0.0000,E, grid, , , ,N
Point02,xy, 1029, 144,in, deg, 56, 40.0000,N, 36, 15.0000,E, grid, , , ,N
Point03,xy, 1933, 148,in, deg, 56, 40.0000,N, 36, 30.0000,E, grid, , , ,N
Point04,xy, 114, 1237,in, deg, 56, 30.0000,N, 36, 0.0000,E, grid, , , ,N
Point05,xy, 1022, 1246,in, deg, 56, 30.0000,N, 36, 15.0000,E, grid, , , ,N
Point06,xy, 1931, 1247,in, deg, 56, 30.0000,N, 36, 30.0000,E, grid, , , ,N
Point07,xy, 103, 2336,in, deg, 56, 20.0000,N, 36, 0.0000,E, grid, , , ,N
Point08,xy, 1016, 2343,in, deg, 56, 20.0000,N, 36, 15.0000,E, grid, , , ,N
Point09,xy, 1928, 2344,in, deg, 56, 20.0000,N, 36, 30.0000,E, grid, , , ,N
Point10,xy, , ,in, deg, , ,, , ,, grid, , , ,N
Point11,xy, , ,in, deg, , ,, , ,, grid, , , ,N
Point12,xy, , ,in, deg, , ,, , ,, grid, , , ,N
Point13,xy, , ,in, deg, , ,, , ,, grid, , , ,N
Point14,xy, , ,in, deg, , ,, , ,, grid, , , ,N
Point15,xy, , ,in, deg, , ,, , ,, grid, , , ,N
Point16,xy, , ,in, deg, , ,, , ,, grid, , , ,N
Point17,xy, , ,in, deg, , ,, , ,, grid, , , ,N
Point18,xy, , ,in, deg, , ,, , ,, grid, , , ,N
Point19,xy, , ,in, deg, , ,, , ,, grid, , , ,N
Point20,xy, , ,in, deg, , ,, , ,, grid, , , ,N
Point21,xy, , ,in, deg, , ,, , ,, grid, , , ,N
Point22,xy, , ,in, deg, , ,, , ,, grid, , , ,N
Point23,xy, , ,in, deg, , ,, , ,, grid, , , ,N
Point24,xy, , ,in, deg, , ,, , ,, grid, , , ,N
Point25,xy, , ,in, deg, , ,, , ,, grid, , , ,N
Point26,xy, , ,in, deg, , ,, , ,, grid, , , ,N
Point27,xy, , ,in, deg, , ,, , ,, grid, , , ,N
Point28,xy, , ,in, deg, , ,, , ,, grid, , , ,N
Point29,xy, , ,in, deg, , ,, , ,, grid, , , ,N
Point30,xy, , ,in, deg, , ,, , ,, grid, , , ,N
Projection Setup, 0.000000000, 39.000000000, 1.000000000, 7500000.00, 0.00,,,,,
Map Feature = MF ; Map Comment = MC These follow if they exist
Track File = TF These follow if they exist
Moving Map Parameters = MM? These follow if they exist
MM0,Yes
MMPNUM,4
MMPXY,1,121,136
MMPXY,2,1935,145
MMPXY,3,1932,2349
MMPXY,4,100,2341
MMPLL,1, 35.998911, 56.666976
MMPLL,2, 36.500529, 56.667058
MMPLL,3, 36.501031, 56.332635
MMPLL,4, 35.999169, 56.332556
MM1B,16.938337
Other Grid Setup
GRGRID,Yes,2 Km,No,16711680,255,2 Km,0,16777215,8,0,Yes,Yes,No,x
MOP,Map Open Position,0,0
IWH,Map Image Width/Height,2040,2532
