OziExplorer Map Data File Version 2.2
o37-125
Y:\ozi_map\work_map\1\o37-125.gif
1 ,Map Code,
Pulkovo 1942 (1),, 0.0000, 0.0000,WGS 84
Reserved 1
Reserved 2
Magnetic Variation,,,E
Map Projection,Transverse Mercator,PolyCal,Yes,AutoCalOnly,No,BSBUseWPX,No
Point01,xy, 80, 145,in, deg, 56, 40.0000,N, 38, 0.0000,E, grid, , , ,N
Point02,xy, 985, 144,in, deg, 56, 40.0000,N, 38, 15.0000,E, grid, , , ,N
Point03,xy, 1888, 139,in, deg, 56, 40.0000,N, 38, 30.0000,E, grid, , , ,N
Point04,xy, 80, 1243,in, deg, 56, 30.0000,N, 38, 0.0000,E, grid, , , ,N
Point05,xy, 989, 1243,in, deg, 56, 30.0000,N, 38, 15.0000,E, grid, , , ,N
Point06,xy, 1897, 1238,in, deg, 56, 30.0000,N, 38, 30.0000,E, grid, , , ,N
Point07,xy, 77, 2340,in, deg, 56, 20.0000,N, 38, 0.0000,E, grid, , , ,N
Point08,xy, 990, 2340,in, deg, 56, 20.0000,N, 38, 15.0000,E, grid, , , ,N
Point09,xy, 1903, 2336,in, deg, 56, 20.0000,N, 38, 30.0000,E, grid, , , ,N
Point10,xy, , ,in, deg, , ,, , ,, grid, , , ,N
Point11,xy, , ,in, deg, , ,, , ,, grid, , , ,N
Point12,xy, , ,in, deg, , ,, , ,, grid, , , ,N
Point13,xy, , ,in, deg, , ,, , ,, grid, , , ,N
Point14,xy, , ,in, deg, , ,, , ,, grid, , , ,N
Point15,xy, , ,in, deg, , ,, , ,, grid, , , ,N
Point16,xy, , ,in, deg, , ,, , ,, grid, , , ,N
Point17,xy, , ,in, deg, , ,, , ,, grid, , , ,N
Point18,xy, , ,in, deg, , ,, , ,, grid, , , ,N
Point19,xy, , ,in, deg, , ,, , ,, grid, , , ,N
Point20,xy, , ,in, deg, , ,, , ,, grid, , , ,N
Point21,xy, , ,in, deg, , ,, , ,, grid, , , ,N
Point22,xy, , ,in, deg, , ,, , ,, grid, , , ,N
Point23,xy, , ,in, deg, , ,, , ,, grid, , , ,N
Point24,xy, , ,in, deg, , ,, , ,, grid, , , ,N
Point25,xy, , ,in, deg, , ,, , ,, grid, , , ,N
Point26,xy, , ,in, deg, , ,, , ,, grid, , , ,N
Point27,xy, , ,in, deg, , ,, , ,, grid, , , ,N
Point28,xy, , ,in, deg, , ,, , ,, grid, , , ,N
Point29,xy, , ,in, deg, , ,, , ,, grid, , , ,N
Point30,xy, , ,in, deg, , ,, , ,, grid, , , ,N
Projection Setup, 0.000000000, 39.000000000, 1.000000000, 7500000.00, 0.00,,,,,
Map Feature = MF ; Map Comment = MC These follow if they exist
Track File = TF These follow if they exist
Moving Map Parameters = MM? These follow if they exist
MM0,Yes
MMPNUM,4
MMPXY,1,76,143
MMPXY,2,1892,136
MMPXY,3,1907,2339
MMPXY,4,74,2344
MMPLL,1, 37.998849, 56.666961
MMPLL,2, 38.501069, 56.667109
MMPLL,3, 38.501139, 56.332865
MMPLL,4, 37.999229, 56.332715
MM1B,16.941010
Other Grid Setup
GRGRID,Yes,2 Km,No,16711680,255,2 Km,0,16777215,8,0,Yes,Yes,No,x
MOP,Map Open Position,0,0
IWH,Map Image Width/Height,1988,2520
