OziExplorer Map Data File Version 2.2
o37-01
Y:\ozi_map\work_map\2\o37-01.jpg
1 ,Map Code,
Pulkovo 1942 (1),, 0.0000, 0.0000,WGS 84
Reserved 1
Reserved 2
Magnetic Variation,,,E
Map Projection,Transverse Mercator,PolyCal,Yes,AutoCalOnly,No,BSBUseWPX,No
Point01,xy, 174, 205,in, deg, 60, 0.0000,N, 36, 0.0000,E, grid, , , ,N
Point02,xy, 1822, 210,in, deg, 60, 0.0000,N, 36, 30.0000,E, grid, , , ,N
Point03,xy, 3465, 199,in, deg, 60, 0.0000,N, 37, 0.0000,E, grid, , , ,N
Point04,xy, 160, 2408,in, deg, 59, 40.0000,N, 36, 0.0000,E, grid, , , ,N
Point05,xy, 1825, 2408,in, deg, 59, 40.0000,N, 36, 30.0000,E, grid, , , ,N
Point06,xy, 3484, 2397,in, deg, 59, 40.0000,N, 37, 0.0000,E, grid, , , ,N
Point07,xy, 149, 4600,in, deg, 59, 20.0000,N, 36, 0.0000,E, grid, , , ,N
Point08,xy, 1827, 4603,in, deg, 59, 20.0000,N, 36, 30.0000,E, grid, , , ,N
Point09,xy, 3504, 4593,in, deg, 59, 20.0000,N, 37, 0.0000,E, grid, , , ,N
Point10,xy, , ,in, deg, , ,, , ,, grid, , , ,N
Point11,xy, , ,in, deg, , ,, , ,, grid, , , ,N
Point12,xy, , ,in, deg, , ,, , ,, grid, , , ,N
Point13,xy, , ,in, deg, , ,, , ,, grid, , , ,N
Point14,xy, , ,in, deg, , ,, , ,, grid, , , ,N
Point15,xy, , ,in, deg, , ,, , ,, grid, , , ,N
Point16,xy, , ,in, deg, , ,, , ,, grid, , , ,N
Point17,xy, , ,in, deg, , ,, , ,, grid, , , ,N
Point18,xy, , ,in, deg, , ,, , ,, grid, , , ,N
Point19,xy, , ,in, deg, , ,, , ,, grid, , , ,N
Point20,xy, , ,in, deg, , ,, , ,, grid, , , ,N
Point21,xy, , ,in, deg, , ,, , ,, grid, , , ,N
Point22,xy, , ,in, deg, , ,, , ,, grid, , , ,N
Point23,xy, , ,in, deg, , ,, , ,, grid, , , ,N
Point24,xy, , ,in, deg, , ,, , ,, grid, , , ,N
Point25,xy, , ,in, deg, , ,, , ,, grid, , , ,N
Point26,xy, , ,in, deg, , ,, , ,, grid, , , ,N
Point27,xy, , ,in, deg, , ,, , ,, grid, , , ,N
Point28,xy, , ,in, deg, , ,, , ,, grid, , , ,N
Point29,xy, , ,in, deg, , ,, , ,, grid, , , ,N
Point30,xy, , ,in, deg, , ,, , ,, grid, , , ,N
Projection Setup, 0.000000000, 39.000000000, 1.000000000, 7500000.00, 0.00,,,,,
Map Feature = MF ; Map Comment = MC These follow if they exist
Track File = TF These follow if they exist
Moving Map Parameters = MM? These follow if they exist
MM0,Yes
MMPNUM,4
MMPXY,1,173,201
MMPXY,2,3470,197
MMPXY,3,3506,4596
MMPXY,4,146,4601
MMPLL,1, 35.999679, 60.000789
MMPLL,2, 37.001423, 60.000250
MMPLL,3, 37.000694, 59.332750
MMPLL,4, 35.999306, 59.333283
MM1B,16.944840
Other Grid Setup
GRGRID,Yes,4 Km,No,16711680,255,4 Km,0,16777215,8,0,Yes,Yes,No,x
MOP,Map Open Position,0,0
IWH,Map Image Width/Height,3645,4740
