OziExplorer Map Data File Version 2.2
o37-08
Y:\ozi_map\work_map\2\o37-08.jpg
1 ,Map Code,
Pulkovo 1942 (1),, 0.0000, 0.0000,WGS 84
Reserved 1
Reserved 2
Magnetic Variation,,,E
Map Projection,Transverse Mercator,PolyCal,Yes,AutoCalOnly,No,BSBUseWPX,No
Point01,xy, 215, 222,in, deg, 59, 20.0000,N, 37, 0.0000,E, grid, , , ,N
Point02,xy, 1894, 221,in, deg, 59, 20.0000,N, 37, 30.0000,E, grid, , , ,N
Point03,xy, 3572, 205,in, deg, 59, 20.0000,N, 38, 0.0000,E, grid, , , ,N
Point04,xy, 207, 2419,in, deg, 59, 0.0000,N, 37, 0.0000,E, grid, , , ,N
Point05,xy, 1902, 2413,in, deg, 59, 0.0000,N, 37, 30.0000,E, grid, , , ,N
Point06,xy, 3596, 2404,in, deg, 59, 0.0000,N, 38, 0.0000,E, grid, , , ,N
Point07,xy, 199, 4620,in, deg, 58, 40.0000,N, 37, 0.0000,E, grid, , , ,N
Point08,xy, 1910, 4620,in, deg, 58, 40.0000,N, 37, 30.0000,E, grid, , , ,N
Point09,xy, 3619, 4605,in, deg, 58, 40.0000,N, 38, 0.0000,E, grid, , , ,N
Point10,xy, , ,in, deg, , ,, , ,, grid, , , ,N
Point11,xy, , ,in, deg, , ,, , ,, grid, , , ,N
Point12,xy, , ,in, deg, , ,, , ,, grid, , , ,N
Point13,xy, , ,in, deg, , ,, , ,, grid, , , ,N
Point14,xy, , ,in, deg, , ,, , ,, grid, , , ,N
Point15,xy, , ,in, deg, , ,, , ,, grid, , , ,N
Point16,xy, , ,in, deg, , ,, , ,, grid, , , ,N
Point17,xy, , ,in, deg, , ,, , ,, grid, , , ,N
Point18,xy, , ,in, deg, , ,, , ,, grid, , , ,N
Point19,xy, , ,in, deg, , ,, , ,, grid, , , ,N
Point20,xy, , ,in, deg, , ,, , ,, grid, , , ,N
Point21,xy, , ,in, deg, , ,, , ,, grid, , , ,N
Point22,xy, , ,in, deg, , ,, , ,, grid, , , ,N
Point23,xy, , ,in, deg, , ,, , ,, grid, , , ,N
Point24,xy, , ,in, deg, , ,, , ,, grid, , , ,N
Point25,xy, , ,in, deg, , ,, , ,, grid, , , ,N
Point26,xy, , ,in, deg, , ,, , ,, grid, , , ,N
Point27,xy, , ,in, deg, , ,, , ,, grid, , , ,N
Point28,xy, , ,in, deg, , ,, , ,, grid, , , ,N
Point29,xy, , ,in, deg, , ,, , ,, grid, , , ,N
Point30,xy, , ,in, deg, , ,, , ,, grid, , , ,N
Projection Setup, 0.000000000, 39.000000000, 1.000000000, 7500000.00, 0.00,,,,,
Map Feature = MF ; Map Comment = MC These follow if they exist
Track File = TF These follow if they exist
Moving Map Parameters = MM? These follow if they exist
MM0,Yes
MMPNUM,4
MMPXY,1,213,219
MMPXY,2,3575,201
MMPXY,3,3622,4609
MMPXY,4,198,4621
MMPLL,1, 36.999438, 59.333867
MMPLL,2, 38.000904, 59.334065
MMPLL,3, 38.000816, 58.666182
MMPLL,4, 36.999698, 58.666589
MM1B,16.949914
Other Grid Setup
GRGRID,Yes,4 Km,No,16711680,255,4 Km,0,16777215,8,0,Yes,Yes,No,x
MOP,Map Open Position,0,0
IWH,Map Image Width/Height,3728,4832
