OziExplorer Map Data File Version 2.2
o37-22
Y:\ozi_map\work_map\2\o37-22.jpg
1 ,Map Code,
Pulkovo 1942 (1),, 0.0000, 0.0000,WGS 84
Reserved 1
Reserved 2
Magnetic Variation,,,E
Map Projection,Transverse Mercator,PolyCal,Yes,AutoCalOnly,No,BSBUseWPX,No
Point01,xy, 210, 207,in, deg, 58, 0.0000,N, 39, 0.0000,E, grid, , , ,N
Point02,xy, 1954, 207,in, deg, 58, 0.0000,N, 39, 30.0000,E, grid, , , ,N
Point03,xy, 3695, 194,in, deg, 58, 0.0000,N, 40, 0.0000,E, grid, , , ,N
Point04,xy, 198, 2408,in, deg, 57, 40.0000,N, 39, 0.0000,E, grid, , , ,N
Point05,xy, 1960, 2411,in, deg, 57, 40.0000,N, 39, 30.0000,E, grid, , , ,N
Point06,xy, 3716, 2395,in, deg, 57, 40.0000,N, 40, 0.0000,E, grid, , , ,N
Point07,xy, 187, 4607,in, deg, 57, 20.0000,N, 39, 0.0000,E, grid, , , ,N
Point08,xy, 1965, 4610,in, deg, 57, 20.0000,N, 39, 30.0000,E, grid, , , ,N
Point09,xy, 3738, 4596,in, deg, 57, 20.0000,N, 40, 0.0000,E, grid, , , ,N
Point10,xy, , ,in, deg, , ,, , ,, grid, , , ,N
Point11,xy, , ,in, deg, , ,, , ,, grid, , , ,N
Point12,xy, , ,in, deg, , ,, , ,, grid, , , ,N
Point13,xy, , ,in, deg, , ,, , ,, grid, , , ,N
Point14,xy, , ,in, deg, , ,, , ,, grid, , , ,N
Point15,xy, , ,in, deg, , ,, , ,, grid, , , ,N
Point16,xy, , ,in, deg, , ,, , ,, grid, , , ,N
Point17,xy, , ,in, deg, , ,, , ,, grid, , , ,N
Point18,xy, , ,in, deg, , ,, , ,, grid, , , ,N
Point19,xy, , ,in, deg, , ,, , ,, grid, , , ,N
Point20,xy, , ,in, deg, , ,, , ,, grid, , , ,N
Point21,xy, , ,in, deg, , ,, , ,, grid, , , ,N
Point22,xy, , ,in, deg, , ,, , ,, grid, , , ,N
Point23,xy, , ,in, deg, , ,, , ,, grid, , , ,N
Point24,xy, , ,in, deg, , ,, , ,, grid, , , ,N
Point25,xy, , ,in, deg, , ,, , ,, grid, , , ,N
Point26,xy, , ,in, deg, , ,, , ,, grid, , , ,N
Point27,xy, , ,in, deg, , ,, , ,, grid, , , ,N
Point28,xy, , ,in, deg, , ,, , ,, grid, , , ,N
Point29,xy, , ,in, deg, , ,, , ,, grid, , , ,N
Point30,xy, , ,in, deg, , ,, , ,, grid, , , ,N
Projection Setup, 0.000000000, 39.000000000, 1.000000000, 7500000.00, 0.00,,,,,
Map Feature = MF ; Map Comment = MC These follow if they exist
Track File = TF These follow if they exist
Moving Map Parameters = MM? These follow if they exist
MM0,Yes
MMPNUM,4
MMPXY,1,208,204
MMPXY,2,3698,193
MMPXY,3,3740,4598
MMPXY,4,183,4610
MMPLL,1, 38.999497, 58.000396
MMPLL,2, 40.000943, 58.000038
MMPLL,3, 40.000550, 57.333015
MMPLL,4, 38.998867, 57.332913
MM1B,16.959563
Other Grid Setup
GRGRID,Yes,4 Km,No,16711680,255,4 Km,0,16777215,8,0,Yes,Yes,No,x
MOP,Map Open Position,0,0
IWH,Map Image Width/Height,3856,4832
