OziExplorer Map Data File Version 2.2
o37-23
Y:\ozi_map\work_map\2\o37-23.jpg
1 ,Map Code,
Pulkovo 1942 (1),, 0.0000, 0.0000,WGS 84
Reserved 1
Reserved 2
Magnetic Variation,,,E
Map Projection,Transverse Mercator,PolyCal,Yes,AutoCalOnly,No,BSBUseWPX,No
Point01,xy, 200, 192,in, deg, 58, 0.0000,N, 40, 0.0000,E, grid, , , ,N
Point02,xy, 1946, 195,in, deg, 58, 0.0000,N, 40, 30.0000,E, grid, , , ,N
Point03,xy, 3689, 178,in, deg, 58, 0.0000,N, 41, 0.0000,E, grid, , , ,N
Point04,xy, 191, 2397,in, deg, 57, 40.0000,N, 40, 0.0000,E, grid, , , ,N
Point05,xy, 1955, 2391,in, deg, 57, 40.0000,N, 40, 30.0000,E, grid, , , ,N
Point06,xy, 3712, 2378,in, deg, 57, 40.0000,N, 41, 0.0000,E, grid, , , ,N
Point07,xy, 182, 4594,in, deg, 57, 20.0000,N, 40, 0.0000,E, grid, , , ,N
Point08,xy, 1962, 4591,in, deg, 57, 20.0000,N, 40, 30.0000,E, grid, , , ,N
Point09,xy, 3735, 4578,in, deg, 57, 20.0000,N, 41, 0.0000,E, grid, , , ,N
Point10,xy, , ,in, deg, , ,, , ,, grid, , , ,N
Point11,xy, , ,in, deg, , ,, , ,, grid, , , ,N
Point12,xy, , ,in, deg, , ,, , ,, grid, , , ,N
Point13,xy, , ,in, deg, , ,, , ,, grid, , , ,N
Point14,xy, , ,in, deg, , ,, , ,, grid, , , ,N
Point15,xy, , ,in, deg, , ,, , ,, grid, , , ,N
Point16,xy, , ,in, deg, , ,, , ,, grid, , , ,N
Point17,xy, , ,in, deg, , ,, , ,, grid, , , ,N
Point18,xy, , ,in, deg, , ,, , ,, grid, , , ,N
Point19,xy, , ,in, deg, , ,, , ,, grid, , , ,N
Point20,xy, , ,in, deg, , ,, , ,, grid, , , ,N
Point21,xy, , ,in, deg, , ,, , ,, grid, , , ,N
Point22,xy, , ,in, deg, , ,, , ,, grid, , , ,N
Point23,xy, , ,in, deg, , ,, , ,, grid, , , ,N
Point24,xy, , ,in, deg, , ,, , ,, grid, , , ,N
Point25,xy, , ,in, deg, , ,, , ,, grid, , , ,N
Point26,xy, , ,in, deg, , ,, , ,, grid, , , ,N
Point27,xy, , ,in, deg, , ,, , ,, grid, , , ,N
Point28,xy, , ,in, deg, , ,, , ,, grid, , , ,N
Point29,xy, , ,in, deg, , ,, , ,, grid, , , ,N
Point30,xy, , ,in, deg, , ,, , ,, grid, , , ,N
Projection Setup, 0.000000000, 39.000000000, 1.000000000, 7500000.00, 0.00,,,,,
Map Feature = MF ; Map Comment = MC These follow if they exist
Track File = TF These follow if they exist
Moving Map Parameters = MM? These follow if they exist
MM0,Yes
MMPNUM,4
MMPXY,1,197,188
MMPXY,2,3691,174
MMPXY,3,3737,4580
MMPXY,4,180,4595
MMPLL,1, 39.999257, 58.000902
MMPLL,2, 41.000716, 58.000695
MMPLL,3, 41.000501, 57.332867
MMPLL,4, 39.999380, 57.333222
MM1B,16.944634
Other Grid Setup
GRGRID,Yes,4 Km,No,16711680,255,4 Km,0,16777215,8,0,Yes,Yes,No,x
MOP,Map Open Position,0,0
IWH,Map Image Width/Height,3856,4832
