OziExplorer Map Data File Version 2.2
o37-25
Y:\ozi_map\work_map\2\o37-25.jpg
1 ,Map Code,
Pulkovo 1942 (1),, 0.0000, 0.0000,WGS 84
Reserved 1
Reserved 2
Magnetic Variation,,,E
Map Projection,Transverse Mercator,PolyCal,Yes,AutoCalOnly,No,BSBUseWPX,No
Point01,xy, 189, 216,in, deg, 57, 20.0000,N, 36, 0.0000,E, grid, , , ,N
Point02,xy, 1969, 211,in, deg, 57, 20.0000,N, 36, 30.0000,E, grid, , , ,N
Point03,xy, 3741, 193,in, deg, 57, 20.0000,N, 37, 0.0000,E, grid, , , ,N
Point04,xy, 186, 2420,in, deg, 57, 0.0000,N, 36, 0.0000,E, grid, , , ,N
Point05,xy, 1983, 2412,in, deg, 57, 0.0000,N, 36, 30.0000,E, grid, , , ,N
Point06,xy, 3772, 2392,in, deg, 57, 0.0000,N, 37, 0.0000,E, grid, , , ,N
Point07,xy, 184, 4617,in, deg, 56, 40.0000,N, 36, 0.0000,E, grid, , , ,N
Point08,xy, 1996, 4609,in, deg, 56, 40.0000,N, 36, 30.0000,E, grid, , , ,N
Point09,xy, 3801, 4591,in, deg, 56, 40.0000,N, 37, 0.0000,E, grid, , , ,N
Point10,xy, , ,in, deg, , ,, , ,, grid, , , ,N
Point11,xy, , ,in, deg, , ,, , ,, grid, , , ,N
Point12,xy, , ,in, deg, , ,, , ,, grid, , , ,N
Point13,xy, , ,in, deg, , ,, , ,, grid, , , ,N
Point14,xy, , ,in, deg, , ,, , ,, grid, , , ,N
Point15,xy, , ,in, deg, , ,, , ,, grid, , , ,N
Point16,xy, , ,in, deg, , ,, , ,, grid, , , ,N
Point17,xy, , ,in, deg, , ,, , ,, grid, , , ,N
Point18,xy, , ,in, deg, , ,, , ,, grid, , , ,N
Point19,xy, , ,in, deg, , ,, , ,, grid, , , ,N
Point20,xy, , ,in, deg, , ,, , ,, grid, , , ,N
Point21,xy, , ,in, deg, , ,, , ,, grid, , , ,N
Point22,xy, , ,in, deg, , ,, , ,, grid, , , ,N
Point23,xy, , ,in, deg, , ,, , ,, grid, , , ,N
Point24,xy, , ,in, deg, , ,, , ,, grid, , , ,N
Point25,xy, , ,in, deg, , ,, , ,, grid, , , ,N
Point26,xy, , ,in, deg, , ,, , ,, grid, , , ,N
Point27,xy, , ,in, deg, , ,, , ,, grid, , , ,N
Point28,xy, , ,in, deg, , ,, , ,, grid, , , ,N
Point29,xy, , ,in, deg, , ,, , ,, grid, , , ,N
Point30,xy, , ,in, deg, , ,, , ,, grid, , , ,N
Projection Setup, 0.000000000, 39.000000000, 1.000000000, 7500000.00, 0.00,,,,,
Map Feature = MF ; Map Comment = MC These follow if they exist
Track File = TF These follow if they exist
Moving Map Parameters = MM? These follow if they exist
MM0,Yes
MMPNUM,4
MMPXY,1,187,214
MMPXY,2,3745,190
MMPXY,3,3804,4594
MMPXY,4,182,4619
MMPLL,1, 35.999485, 57.333760
MMPLL,2, 37.001050, 57.333725
MMPLL,3, 37.000789, 56.666075
MMPLL,4, 35.999552, 56.666409
MM1B,16.935051
Other Grid Setup
GRGRID,Yes,4 Km,No,16711680,255,4 Km,0,16777215,8,0,Yes,Yes,No,x
MOP,Map Open Position,0,0
IWH,Map Image Width/Height,3856,4832
